BEGIN:VCALENDAR
VERSION:2.0
PRODID:-//Maryland Psychiatric Society - ECPv3.12.3//NONSGML v1.0//EN
CALSCALE:GREGORIAN
METHOD:PUBLISH
X-WR-CALNAME:Maryland Psychiatric Society
X-ORIGINAL-URL:https://mdpsych.org
X-WR-CALDESC:Events for Maryland Psychiatric Society
BEGIN:VEVENT
DTSTART:20251212T003000Z
DTEND:20251212T023000Z
DTSTAMP:20260423T194123Z
CREATED:20250926T135934Z
LAST-MODIFIED:20250926T135934Z
UID:6952-1765499400-1765506600@mdpsych.org
SUMMARY:Book Club
DESCRIPTION:Members will discuss The River We Remember by William Kent Krueger
URL:https://mdpsych.org/meetings/book-club-8/
END:VEVENT
END:VCALENDAR